BEGIN:VCALENDAR
VERSION:2.0
PRODID:-//Republican Party of Texas - ECPv6.6.4.2//NONSGML v1.0//EN
CALSCALE:GREGORIAN
METHOD:PUBLISH
X-WR-CALNAME:Republican Party of Texas
X-ORIGINAL-URL:https://texasgop.org
X-WR-CALDESC:Events for Republican Party of Texas
REFRESH-INTERVAL;VALUE=DURATION:PT1H
X-Robots-Tag:noindex
X-PUBLISHED-TTL:PT1H
BEGIN:VTIMEZONE
TZID:America/Chicago
BEGIN:DAYLIGHT
TZOFFSETFROM:-0600
TZOFFSETTO:-0500
TZNAME:CDT
DTSTART:20250309T080000
END:DAYLIGHT
BEGIN:STANDARD
TZOFFSETFROM:-0500
TZOFFSETTO:-0600
TZNAME:CST
DTSTART:20251102T070000
END:STANDARD
TZID:UTC
BEGIN:STANDARD
TZOFFSETFROM:+0000
TZOFFSETTO:+0000
TZNAME:UTC
DTSTART:20250101T000000
END:STANDARD
TZID:America/New_York
BEGIN:DAYLIGHT
TZOFFSETFROM:-0500
TZOFFSETTO:-0400
TZNAME:EDT
DTSTART:20250309T070000
END:DAYLIGHT
BEGIN:STANDARD
TZOFFSETFROM:-0400
TZOFFSETTO:-0500
TZNAME:EST
DTSTART:20251102T060000
END:STANDARD
END:VTIMEZONE
BEGIN:VEVENT
DTSTART;TZID=America/Chicago:20250710T110000
DTEND;TZID=America/Chicago:20250710T130000
DTSTAMP:20260424T083403
CREATED:20250506T012641Z
LAST-MODIFIED:20250506T012641Z
UID:10000068-1752145200-1752152400@texasgop.org
SUMMARY:Monthly Luncheon Meeting
DESCRIPTION:Monthly Luncheon Meeting featuring a wide variety of interesting and dynamic guest speakers. Social time begins at 11:00am with meeting and lunch start at 11:30am. \n$25 Meeting + Lunch | $5 Meeting + Beverage Only
URL:https://texasgop.org/event/monthly-luncheon-meeting/
LOCATION:St. John’s Lutheran Church\, 15235 Spring Cypress Road Entrance #1\, Cypress\, TX\, 77429\, United States
CATEGORIES:Meeting
END:VEVENT
BEGIN:VEVENT
DTSTART;TZID=UTC:20250712T080000
DTEND;TZID=UTC:20250712T170000
DTSTAMP:20260424T083403
CREATED:20250611T002212Z
LAST-MODIFIED:20250611T002212Z
UID:10000078-1752307200-1752339600@texasgop.org
SUMMARY:South Texas Conservative Conference
DESCRIPTION:Join us for a day of education\, inspiration\, and networking as we advance conservative values across South Texas. Hear from top speakers\, engage in debates\, and connect with fellow patriots!\nTopics & Speakers\nConservative Tax Policy: E.J. Antoni (Heritage Foundation)\nJudicial Activism: Laura “Allison” Ramos (Attorney)\nReligious Freedom: Lathan Watts (Alliance Defending Freedom)\nParliamentary Procedures: Travis Vest (NCRP Parliamentarian)\nArticle V Convention (Against): Fred Costa\, Steve Oglesby (JBS)\nArticle V Convention Pro: TBA
URL:https://texasgop.org/event/south-texas-conservative-conference/
LOCATION:Holiday Inn Airport\, 5549 Leopard St.\, Corpus Christi\, TX\, 78408\, United States
END:VEVENT
BEGIN:VEVENT
DTSTART;TZID=America/Chicago:20250719T083000
DTEND;TZID=America/Chicago:20250719T153000
DTSTAMP:20260424T083403
CREATED:20250603T193627Z
LAST-MODIFIED:20250603T193627Z
UID:10000072-1752913800-1752939000@texasgop.org
SUMMARY:2025 Great State Republicans Candidate Training and Campaign School
DESCRIPTION:Doors open at 8am for Check-in\, Light Breakfast\, professional and experienced instructors provide crucial training to run a competitive campaign. They will cover the structure\, best use of resources\, legal aspects & ethics and what to expect before and during your run for office. Lunch will be served and work continues with tips and considerations that work in metropolitan and rural areas of Texas. Handouts will be provided. This is geared for those who are already up for re-election and for those who have never run before. This is our 3rd workshop and we have trained those running state-wide as well as those running for local school board and everything in-between.
URL:https://texasgop.org/event/2025-great-state-republicans-candidate-training-and-campaign-school/
LOCATION:St Peter Lutheran Church Fellowship Hall\, 101 Market Street\, Hallettsville\, TX\, 77964\, United States
END:VEVENT
BEGIN:VEVENT
DTSTART;TZID=America/Chicago:20250808T110000
DTEND;TZID=America/Chicago:20250808T130000
DTSTAMP:20260424T083403
CREATED:20250506T012749Z
LAST-MODIFIED:20250506T012749Z
UID:10000069-1754650800-1754658000@texasgop.org
SUMMARY:Monthly Luncheon Meeting
DESCRIPTION:Monthly Luncheon Meeting featuring a wide variety of interesting and dynamic guest speakers. Social time begins at 11:00am with meeting and lunch start at 11:30am. \n$25 Meeting + Lunch | $5 Meeting + Beverage Only
URL:https://texasgop.org/event/monthly-luncheon-meeting-2/
LOCATION:St. John’s Lutheran Church\, 15235 Spring Cypress Road Entrance #1\, Cypress\, TX\, 77429\, United States
CATEGORIES:Meeting
END:VEVENT
BEGIN:VEVENT
DTSTART;TZID=UTC:20250812T173000
DTEND;TZID=UTC:20250812T193000
DTSTAMP:20260424T083403
CREATED:20250730T203844Z
LAST-MODIFIED:20250730T203844Z
UID:10000080-1755019800-1755027000@texasgop.org
SUMMARY:Raising the Bar
DESCRIPTION:A special evening in the beautiful Waterfall Room at the Hills Country Club!\nFeaturing our guest speaker… Texas State Representative from Ellis County — Brian Harrison (R) from House District 10. \nMore than just a Social Event\, we are gathering to reflect and take continued action for our fellow Texans impacted by devastating floods.\nEvery dollar of profit from this event will support Texas flood recovery through the Ark of Highland Lakes assistance program.\n(we will also be accepting donation items to support their continuing efforts. \nRep. Harrison will share timely insights on conservative leadership\, current legislative updates\, and how Texans can stand together in challenging times.
URL:https://texasgop.org/event/raising-the-bar/
LOCATION:The Hills Country Club\, 26 Club Estates Parkway\, Lakeway\, TX\, 78738\, United States
ORGANIZER;CN="Lake Travis Republican Club":MAILTO:gerryfortexas@pm.me
END:VEVENT
BEGIN:VEVENT
DTSTART;TZID=America/New_York:20250820T123000
DTEND;TZID=America/New_York:20250820T123000
DTSTAMP:20260424T083403
CREATED:20250819T224952Z
LAST-MODIFIED:20250819T225001Z
UID:10000081-1755693000-1755693000@texasgop.org
SUMMARY:Summer Lunch & Learn - Llano County GOP & Star Republican Women
DESCRIPTION:Wednesday\, August 20th\, 12:30pm Blue Lake Golf Club\, 214 W. Bluebonnet Rd.\, Horseshoe Bay\, TX $25 donation
URL:https://texasgop.org/event/summer-lunch-learn-llano-county-gop-star-republican-women/
LOCATION:Blue Lake Golf Club\, 214 W. Bluebonnet Rd.\, Horseshoe Bay\, TX\, 78657\, United States
CATEGORIES:Special Event
ATTACH;FMTTYPE=image/png:https://texasgop.org/wp-content/uploads/2025/08/GOP-Summer-Lunch-Fundraiser-1.png
END:VEVENT
BEGIN:VEVENT
DTSTART;TZID=America/Chicago:20250912T110000
DTEND;TZID=America/Chicago:20250912T130000
DTSTAMP:20260424T083403
CREATED:20250506T012817Z
LAST-MODIFIED:20250506T012817Z
UID:10000070-1757674800-1757682000@texasgop.org
SUMMARY:Monthly Luncheon Meeting
DESCRIPTION:Monthly Luncheon Meeting featuring a wide variety of interesting and dynamic guest speakers. Social time begins at 11:00am with meeting and lunch start at 11:30am. \n$25 Meeting + Lunch | $5 Meeting + Beverage Only
URL:https://texasgop.org/event/monthly-luncheon-meeting-3/
LOCATION:St. John’s Lutheran Church\, 15235 Spring Cypress Road Entrance #1\, Cypress\, TX\, 77429\, United States
CATEGORIES:Meeting
END:VEVENT
BEGIN:VEVENT
DTSTART;TZID=America/New_York:20250916T180000
DTEND;TZID=America/New_York:20250916T193000
DTSTAMP:20260424T083403
CREATED:20250912T204818Z
LAST-MODIFIED:20250912T204818Z
UID:10000083-1758045600-1758051000@texasgop.org
SUMMARY:Coppell Republican Club & Cindy Castilla | What's REALLY Going in the Texas Capital and Strategies that Work
DESCRIPTION:BE PART OF OUR DISCUSSION AT COPPELL REPUBLICAN CLUB – MONTHLY MEETING \nTOPIC OF DISCUSSION:\nWhat’s REALLY Going in the Texas Capital and Strategies that Work\, w/CINDY CASTILLA\, Texas Eagle Forum President \nTUESDAY\, 16 September\, 2025\nCHECK-IN: 6:00PM\nMEETING: 6:30PM – 7:30PM \nLOCATION:\nWilliam T Cozby Public Library\n177 N. Heartz Rd. Coppell\, TX 75019 \nRSVP: coppellgopclub@gmail.com\nhttps://www.coppellrepublicanclub.org/
URL:https://texasgop.org/event/coppell-republican-club-cindy-castilla-whats-really-going-in-the-texas-capital-and-strategies-that-work/
LOCATION:William T Cozby Public Library\, 177 N. Heartz Rd\, Coppell\, TX\, 75019\, United States
CATEGORIES:Meeting
END:VEVENT
BEGIN:VEVENT
DTSTART;TZID=America/New_York:20250917T173000
DTEND;TZID=America/New_York:20250917T210000
DTSTAMP:20260424T083403
CREATED:20250819T225513Z
LAST-MODIFIED:20250819T225746Z
UID:10000082-1758130200-1758142800@texasgop.org
SUMMARY:Star Spangled Stand Up
DESCRIPTION:Join us in the fight to keep the corridor between Austin and San Antonio conservative! \nThe What:\nThis kick-off fundraising event\, Star Spangled Stand-Up\, will bring patriots together to connect and enjoy Texas political humor! The evening of comedy will feature a winning combination with TrumpedUpTexan as the warm-up act and the main headliner being Chad Prather! \nThe When:\nThe Star Spangled Stand-Up is happening on Wednesday\, Sept 17th at 5:30 pm – 8:30 pm. \nThe Where:\nThe Star Spangled Stand-Up will be at the beautiful Old Glory Ranch in Wimberley. Venue owner Suzanne McCord has stepped up to provide this amazing backdrop for 200 influential guests to enjoy a fun comedy club evening together. \nThe How:\nEvent capacity is limited\, so ACT NOW to secure your tickets at https://luma.com/maxxilyl\nEasy as 1-2-3! Just call Tracy Terrell at 512-663-1717 to learn more details about the great benefits of becoming a sponsor! \nSponsorship Levels include table of 10 guests plus many more benefits:\n Headliner Sponsor at $10\,000 (only one available)\n Mic Drop Sponsor at $5\,000\n Backstage Pass at $2\,500\n Additional Sponsorships from $500 to $2\,000\nIndividual Guest Tickets:\n Premier Laugh Track Guest at $125\n Laugh Track Guest at $100 \nJoin Hays County to Raise Political Awareness\, Money\, and Laughter!
URL:https://texasgop.org/event/star-spangled-stand-up/
LOCATION:Old Glory Ranch\, 3633 River Road\, Wimberley\, TX\, 78676\, United States
CATEGORIES:Special Event
ATTACH;FMTTYPE=image/avif:https://texasgop.org/wp-content/uploads/2025/08/30c01322-86b2-406b-b7cf-10a083de22f4.avif
END:VEVENT
BEGIN:VEVENT
DTSTART;VALUE=DATE:20250919
DTEND;VALUE=DATE:20250921
DTSTAMP:20260424T083403
CREATED:20250723T204525Z
LAST-MODIFIED:20250723T204525Z
UID:10000079-1758240000-1758412799@texasgop.org
SUMMARY:Texas Youth Summit
DESCRIPTION:The 2025 Texas Youth Summit will be hosted at The Woodlands Marriott. Many of the nation’s top conservative speakers are slated to speak at the Summit\, aiming to identify\, educate\, and train students to promote principles of fiscal responsibility\, American Exceptionalism\, free market\, limited government\, and the Judeo-Christian principles this country was founded upon. \n  \nTicketing information: Youth General Admission tickets are $1 with promo code “LONESTARYOUTH.” \nAdult General Admission tickets are $25. \nStudent VIP Tickets are $200\, which include access to the expedited entry\, priority seating\, and additional perks to be announced. \nAdults VIP Tickets are $300\, which include access to the expedited entry\, priority seating\, and access to the VIP Reception headlined by Dinesh D’Souza.
URL:https://texasgop.org/event/texas-youth-summit/
LOCATION:Woodlands Marriot\, 1601 Lake Robbins Dr\, The Woodlands\, TX\, 77380\, United States
CATEGORIES:Special Event
ATTACH;FMTTYPE=image/jpeg:https://texasgop.org/wp-content/uploads/2025/07/thumbnail_TXYS-2025-Main-Speakers-EDIT.jpg
END:VEVENT
BEGIN:VEVENT
DTSTART;TZID=America/New_York:20251002T173000
DTEND;TZID=America/New_York:20251002T200000
DTSTAMP:20260424T083403
CREATED:20251002T164219Z
LAST-MODIFIED:20251002T164219Z
UID:10000084-1759426200-1759435200@texasgop.org
SUMMARY:Coppell Republican Women October Meeting - Speaker: Fred Tate on "Texas Sized Water Challenges"
DESCRIPTION:Coppell Republican Women October Meeting –\nSpeaker: Fred Tate on “Texas Sized Water Challenges” \nThursday\, October 2\, 2025\nNEW TIME\n5:30 – Registration AND Food\n6:00 Meeting Called to Order \nCozby Library and Community Center\n177 N Heartz Rd\, Coppell\, TX 75019 \nCRW Meetings are the first Thursday evening of the month (location varies). \nhttps://coppellrepublicanwomen.com/
URL:https://texasgop.org/event/coppell-republican-women-october-meeting-speaker-fred-tate-on-texas-sized-water-challenges/
LOCATION:Cozby Library and Community Commons\, 177 N Heartz Rd\, Coppell\, TX\, 75019\, United States
CATEGORIES:Meeting
END:VEVENT
BEGIN:VEVENT
DTSTART;TZID=America/New_York:20251014T180000
DTEND;TZID=America/New_York:20251014T200000
DTSTAMP:20260424T083403
CREATED:20251002T164728Z
LAST-MODIFIED:20251002T164728Z
UID:10000085-1760464800-1760472000@texasgop.org
SUMMARY:Texas Comptroller Candidate Forum featuring Kelly Hancock and Don Huffines
DESCRIPTION:Texas Comptroller Candidate Forum \nfeaturing\nKelly Hancock and Don Huffines \nModerated by Justice of the Peace Bill Brandt \nTuesday\, October 14\, 2025\, 6-8pm. \nThe REC of Grapevine\nStewart Hall\n1175 Municipal Way\, Grapevine\, TX 76051 \nHOSTED BY: Keller Republican Club\, Coppell Republican Club\, Colleyville Conservative Club\, Grapevine Republican Club\, A Better Dallas\, Southlake Families Conservative\, Northeast Tarrant County Republican Club. \n*Christi Craddick was invited but is unable to attend due to a scheduling conflict.
URL:https://texasgop.org/event/texas-comptroller-candidate-forum-featuring-kelly-hancock-and-don-huffines/
LOCATION:The REC of Grapevine\, Stewart Hall\, 1175 Municipal Way\, Grapevine\, TX\, 76051\, United States
END:VEVENT
END:VCALENDAR